BEGIN:VCALENDAR
VERSION:2.0
PRODID:-//https://www.prolocopanza.it///NONSGML kigkonsult.se iCalcreator 2.10.15//
METHOD:PUBLISH
BEGIN:VEVENT
UID:20260420T093550CEST-1688GVIX3e@https://www.prolocopanza.it/
DTSTAMP:20260420T073550Z
DESCRIPTION:Spettacolo di animazione per bambini con mascotte e tante sorpr
 ese per i più piccoli.\nArrivano i Re Magi dal lontano Medio OrienteOro\, 
 incenso e mirra per il bambin Gesù https://www.prolocopanza.it/en/calendar
 io-eventi-archiviati/event/14884-aspettando-la-befana
DTSTART:20250105T163000Z
DTEND:20250105T203000Z
LOCATION:Piazza San Leonardo  (Via Cavaliere Leonardo Impagliazzo\, 65\, 80
 075 Forio NA\, Italia)
SUMMARY:Aspettando la Befana
URL:https://www.prolocopanza.it/en/calendario-eventi-archiviati/event/14884
 -aspettando-la-befana
END:VEVENT
END:VCALENDAR
