BEGIN:VCALENDAR
VERSION:2.0
PRODID:-//https://www.prolocopanza.it///NONSGML kigkonsult.se iCalcreator 2.10.15//
METHOD:PUBLISH
BEGIN:VEVENT
UID:20260422T064303CEST-13542Vv8JV@https://www.prolocopanza.it/
DTSTAMP:20260422T044303Z
DESCRIPTION:Partenza dalla Pro Loco Panza\nPercorso alla scoperta delle chi
 ese di uno dei comuni montani dell'isola. Partendo dalla Pro Loco Panza si
  raggiungerà la frazione di Serrara con la visita alla chiesa della Madonn
 a del Carmine e l'immancabile affaccio al caratteristico belvedere. Ci si 
 sposterà nella frazione di Fontana per visitare la chiesa di Sant'Antonio 
 Abate e la Madonna della Mercede\, una delle chiese più antiche dell'isola
 . Il percorso terminerà con la degustazione nella cantina dello Scultore.
 \nPrenotazione obbligatoria - quota di partecipazione 20 €\nLa manifestazi
 one si svolgerà nel pieno rispetto delle normative anticovid e si potrà pa
 rtecipare esclusivamente se in possesso del Green Pass. https://www.proloc
 opanza.it/en/calendario-eventi-archiviati/event/14420-percorso-serrara-fon
 tana-le-chiese-tra-le-montagne
DTSTART:20220104T090000Z
DTEND:20220104T120000Z
LOCATION:Pro Loco Panza Ischia (Via Cavaliere Leonardo Impagliazzo\, 144\, 
 80075 Forio NA\, Italia)
SUMMARY:Percorso Serrara-Fontana: le chiese tra le montagne
URL:https://www.prolocopanza.it/en/calendario-eventi-archiviati/event/14420
 -percorso-serrara-fontana-le-chiese-tra-le-montagne
END:VEVENT
BEGIN:VEVENT
UID:20260422T064303CEST-1359VRgniG@https://www.prolocopanza.it/
DTSTAMP:20260422T044303Z
DESCRIPTION:Inizio escursione in zona Fango\, Lacco Ameno\, dalla SP Borbon
 ica che porta in prossimità del ristorante 'La Beccaccia'.Il sentiero inco
 mincerà in salita e percorrendo l'area della Selva Massaia passando ai pie
 di del Monte Nuovo fino ad arrivare a Santa Maria al Monte. Da lì\, tramit
 e una ripida e vertiginosa mulattiera arriveremo al Belvedere dei Frassite
 lli dove\, dopo una breve sosta ci addentreremo nel bosco della Falanga ca
 mminando tra case\, cantine\, cisterne e palmenti costruiti nella pietra d
 i tufo rigorosamente a mano. Completamente immersi nelle tinte tra verde e
  marrone della flora tipica della zona\, ci fermeremo per il pranzo a sacc
 o. Dopo il pranzo proseguiremo verso la zona del Bianchetto costeggiando l
 e tipiche parracine e scenderemo in direzione nord est passando di fianco 
 ad antichi vigneti in disuso arrivando al Pizzone: passeremo vicino a fuma
 role attive e avremo una terrazza con vista sul porto di Forio da dove pot
 remo ammirare il tramonto.\nDETTAGLI TECNICI- Lunghezza percorso: 8\,0 km-
  Tempo di percorrenza: 6\,5 h circa (pausa pranzo inclusa)- Difficoltà: E 
 Media/Escursionistica- Punto di partenza e arrivo: Parco giochi del Fango\
 , Lacco Ameno- Luogo di incontro: Sede Pro Loco - Piazza san Leonardo\, Pa
 nza\, Forio\nEQUIPAGGIAMENTO- Scarpe tecniche da trekking- Abbigliamento c
 omodo a strati - Giacca a vento/kway- Cappello/occhiali da sole - Almeno 1
 \,5 litri d'acqua- Indumenti di ricambio da portare con sè (consigliati)- 
 Mascherina (obbligatoria)\nPrenotazione obbligatoria - Quota di partecipaz
 ione 20 €\nLa manifestazione si svolgerà nel pieno rispetto delle normativ
 e anticovid e si potrà partecipare esclusivamente se in possesso del Green
  Pass. https://www.prolocopanza.it/en/calendario-eventi-archiviati/event/1
 4430-il-sentiero-delle-fumarole-del-pizzone
DTSTART:20220104T083000Z
DTEND:20220104T150000Z
LOCATION:Pro Loco Panza Ischia (Via Cavaliere Leonardo Impagliazzo\, 144\, 
 80075 Forio NA\, Italia)
SUMMARY:Il sentiero delle fumarole del Pizzone
URL:https://www.prolocopanza.it/en/calendario-eventi-archiviati/event/14430
 -il-sentiero-delle-fumarole-del-pizzone
END:VEVENT
END:VCALENDAR
