BEGIN:VCALENDAR
VERSION:2.0
PRODID:-//https://www.prolocopanza.it///NONSGML kigkonsult.se iCalcreator 2.10.15//
METHOD:PUBLISH
BEGIN:VEVENT
UID:20260422T033747CEST-4047Uz00hB@https://www.prolocopanza.it/
DTSTAMP:20260422T013747Z
DESCRIPTION:Partenza dal Piazzale del Soccorso – Forio\nTre chiese che racc
 hiudono le due anime di Forio: marinara e contadina. Partendo dal piazzale
  del Soccorso\, il percorso prevede la visita del Santuario dedicato alla 
 Madonna del Soccorso\, proseguirà alla volta della Basilica di Santa Maria
  di Loreto – entrambe di origine marinara – e si snoderà attraverso i cara
 tteristici vicoletti del centro storico\, per raggiungere il nucleo più an
 tico del paese\, il quartiere di san Vito\, che dà nome alla basilica e al
  santo patrono di Forio e rivela l'anima contadina del paese\; passando po
 i nell'antico quartiere del Cierco\, si raggiungerà il quartiere Monterone
  e si andrà a visitare la cantina Passariello\, dove si terrà la degustazi
 one.\nPrenotazione obbligatoria - quota di partecipazione 20 €\nLa manifes
 tazione si svolgerà nel pieno rispetto delle normative anticovid e si potr
 à partecipare esclusivamente se in possesso del Green Pass. https://www.pr
 olocopanza.it/en/calendario-eventi-archiviati/event/14416-percorso-forio-p
 reghiere-di-mare-e-di-terra
DTSTART:20220102T090000Z
DTEND:20220102T120000Z
LOCATION:Pro Loco Panza Ischia (Via Cavaliere Leonardo Impagliazzo\, 144\, 
 80075 Forio NA\, Italia)
SUMMARY:Percorso Forio: preghiere di mare e di terra
URL:https://www.prolocopanza.it/en/calendario-eventi-archiviati/event/14416
 -percorso-forio-preghiere-di-mare-e-di-terra
END:VEVENT
BEGIN:VEVENT
UID:20260422T033747CEST-4083pfMklm@https://www.prolocopanza.it/
DTSTAMP:20260422T013747Z
DESCRIPTION:Iniziando l’escursione in prossimità del ristorante il Bracconi
 ere nella zona di Bocca di Serra nel comune di Serrara Fontana. Ci incammi
 neremo verso la zona dei Frassitelli\, attraversando un paesaggio selvaggi
 o ed affascinante lungo il versante nord-ovest dell’isola fino ad arrivare
  nel bosco di querce dei Frassitelli e del suo belvedere\, dove la visuale
  si aprirà sul panorama mozzafiato che offre il territorio del comune di F
 orio (baia di citara\, punta imperatore\, chiesa del Soccorso). Raggiunger
 emo poi la chiesa di Santa Maria al Monte percorrendo la mulattiera che co
 llega il comune di Serrara con quello di Forio. Dopo una breve sosta ci di
 rigeremo verso l’agriturismo Malvisiellodove faremo una degustazione di pr
 odotti tipici. Riprendendo poi\, il cammino ci addentreremo lungo la zona 
 del Bianchetto per arrivare nel bosco della Falangadove andremo alla scope
 rta dei rifugi eCase scavate nella pietra.Lasciato alle spalle il bosco\, 
 rientreremo nei Frassitelli per poi tornare tramite Bocca di Serra\, al no
 stro punto di inizio escursione.\nDETTAGLI TECNICI- Lunghezza percorso: 6\
 ,5 km- Tempo di percorrenza: 5\,5 h circa (pausa pranzo inclusa)- Difficol
 tà: E media- Punto di partenza e arrivo: ristorante Bracconiere\, zona Boc
 ca di Serra- Luogo di incontro: Sede Pro Loco - Piazza san Leonardo\, Panz
 a\, Forio\nEQUIPAGGIAMENTO- Scarpe tecniche da trekking- Abbigliamento com
 odo a strati - Giacca a vento/kway- Cappello/occhiali da sole - Almeno 1\,
 5 litri d'acqua- Indumenti di ricambio da portare con sè (consigliati)- Ma
 scherina (obbligatoria)\nPrenotazione obbligatoria - Quota di partecipazio
 ne 20 €\nLa manifestazione si svolgerà nel pieno rispetto delle normative 
 anticovid e si potrà partecipare esclusivamente se in possesso del Green P
 ass. https://www.prolocopanza.it/en/calendario-eventi-archiviati/event/144
 28-il-sentiero-delle-case-di-pietra
DTSTART:20220102T083000Z
DTEND:20220102T143000Z
LOCATION:Pro Loco Panza Ischia (Via Cavaliere Leonardo Impagliazzo\, 144\, 
 80075 Forio NA\, Italia)
SUMMARY:Il sentiero delle Case di Pietra 
URL:https://www.prolocopanza.it/en/calendario-eventi-archiviati/event/14428
 -il-sentiero-delle-case-di-pietra
END:VEVENT
BEGIN:VEVENT
UID:20260422T033747CEST-4123o6hbmD@https://www.prolocopanza.it/
DTSTAMP:20260422T013747Z
DESCRIPTION:Le cantine del percorso Epomeo:\n1. A CANTIN LU SCULTORIndirizz
 o: Via Casa Mattera\, 25 - FontanaContatti: 3337663548Poco distante dalla 
 piazza di Fontana\, si trova la cantina di Nicola Gioba. Cantina risalente
  al 1930 interamente costruita in pietra di tufo da Nicolino 'a Panella.Or
 a rielaborata da Nicola Gioba\, maestro scultore della pietra\, che attrav
 erso le sue opere ha voluto immortalare alcuni momenti significativi della
  vendemmia. Ma potrete ammirare anche altre sculture che arricchiscono 'la
  cantina' e che la rendono unica.\n2. CANTINA NONNO MICHELE DI TONYVia Pen
 dio Oscuro - Serrara FontanaTel. 081 999570 - Mob. 3294410962La cantina di
  nonno Michele scavata nel 1908 nelle rocce di tufo ed utilizzata fino a 3
 0 anni fa per la conservazione del vino e delle botti. Caratteristica part
 icolare della cantina\, ancora oggi visibile\, è la pietra sudaria\, da cu
 i sgorga acqua. La tradizione familiare\, oggi\, viene portata avanti dal 
 nipote Antonio Galano che l’ha resa uno speciale luogo di ritrovo dove tur
 isti ed isolani.\n3. CANTINA RAUSTELLAIndirizzo: Via Lorenzo Fiore\, - Ser
 rara FontanaContatti: 3478128485Alle pendici del monte Epomeo\, in grotte 
 scavate\, in grotte scavate nella montagna dagli antichi ischitani\, saggi
  contadini continuano a produrre il vino con i sistemi dei padri. Tra ques
 ti\, Francesco Mattera detto Raustella\, nella sua cantina in Serrara\, al
 la veneranda eta’ di 90 anni continua a produrre il meraviglioso nettare d
 egli dei. Completamente restaurata da Giuseppe Mattera oggi scrigno delle 
 antiche tradizioni vitivinicole...\nTutti i percorsi partono dalla sede de
 lla Pro loco in piazza San Leonardo\, Panza alle ore 10.00Prenotazione obb
 ligatoria esclusivamente con green pass.Le escursioni comprendono: servizi
 o navetta – guida – degustazione vini e prodotti tipici della tradizione n
 atalizia I percorsi possono subire variazioni e modifiche in base alle pre
 notazioni e alla disponibilità delle cantine.\nLa manifestazione si svolge
 rà nel pieno rispetto delle normative anticovid e si potrà partecipare esc
 lusivamente se in possesso del Green Pass.\nSarà possibile prenotare i per
 corsi anche di pomeriggio con partenza alle 15.00 solo ed esclusivamente p
 er gruppi con un minimo di 15 persone.  https://www.prolocopanza.it/en/cal
 endario-eventi-archiviati/event/14433-cantinando-a-natale-viii-edizione-pe
 rcorso-epomeo
DTSTART:20220102T090000Z
DTEND:20220102T130000Z
LOCATION:Pro Loco Panza Ischia (Via Cavaliere Leonardo Impagliazzo\, 144\, 
 80075 Forio NA\, Italia)
SUMMARY:Cantinando a Natale - VIII Edizione - Percorso Epomeo
URL:https://www.prolocopanza.it/en/calendario-eventi-archiviati/event/14433
 -cantinando-a-natale-viii-edizione-percorso-epomeo
END:VEVENT
BEGIN:VEVENT
UID:20260422T033747CEST-41661ku3kP@https://www.prolocopanza.it/
DTSTAMP:20260422T013747Z
DESCRIPTION:Le cantine del percorso Epomeo:\n1. A CANTIN LU SCULTORIndirizz
 o: Via Casa Mattera\, 25 - FontanaContatti: 3337663548Poco distante dalla 
 piazza di Fontana\, si trova la cantina di Nicola Gioba. Cantina risalente
  al 1930 interamente costruita in pietra di tufo da Nicolino 'a Panella.Or
 a rielaborata da Nicola Gioba\, maestro scultore della pietra\, che attrav
 erso le sue opere ha voluto immortalare alcuni momenti significativi della
  vendemmia. Ma potrete ammirare anche altre sculture che arricchiscono 'la
  cantina' e che la rendono unica.\n2. CANTINA NONNO MICHELE DI TONYVia Pen
 dio Oscuro - Serrara FontanaTel. 081 999570 - Mob. 3294410962La cantina di
  nonno Michele scavata nel 1908 nelle rocce di tufo ed utilizzata fino a 3
 0 anni fa per la conservazione del vino e delle botti. Caratteristica part
 icolare della cantina\, ancora oggi visibile\, è la pietra sudaria\, da cu
 i sgorga acqua. La tradizione familiare\, oggi\, viene portata avanti dal 
 nipote Antonio Galano che l’ha resa uno speciale luogo di ritrovo dove tur
 isti ed isolani.\n3. CANTINA RAUSTELLAIndirizzo: Via Lorenzo Fiore\, - Ser
 rara FontanaContatti: 3478128485Alle pendici del monte Epomeo\, in grotte 
 scavate\, in grotte scavate nella montagna dagli antichi ischitani\, saggi
  contadini continuano a produrre il vino con i sistemi dei padri. Tra ques
 ti\, Francesco Mattera detto Raustella\, nella sua cantina in Serrara\, al
 la veneranda eta’ di 90 anni continua a produrre il meraviglioso nettare d
 egli dei. Completamente restaurata da Giuseppe Mattera oggi scrigno delle 
 antiche tradizioni vitivinicole...\nTutti i percorsi partono dalla sede de
 lla Pro loco in piazza San Leonardo\, Panza alle ore 10.00Prenotazione obb
 ligatoria esclusivamente con green pass.Le escursioni comprendono: servizi
 o navetta – guida – degustazione vini e prodotti tipici della tradizione n
 atalizia I percorsi possono subire variazioni e modifiche in base alle pre
 notazioni e alla disponibilità delle cantine.\nLa manifestazione si svolge
 rà nel pieno rispetto delle normative anticovid e si potrà partecipare esc
 lusivamente se in possesso del Green Pass.\nLo svolgimento dell'escursione
  è subordinato al raggiungimento minimo di 15 persone. https://www.proloco
 panza.it/en/calendario-eventi-archiviati/event/14450-cantinando-a-natale-v
 iii-edizione-percorso-epomeo-pomeriggio
DTSTART:20220102T140000Z
DTEND:20220102T180000Z
LOCATION:Pro Loco Panza Ischia (Via Cavaliere Leonardo Impagliazzo\, 144\, 
 80075 Forio NA\, Italia)
SUMMARY:Cantinando a Natale - VIII Edizione - Percorso Epomeo (pomeriggio)
URL:https://www.prolocopanza.it/en/calendario-eventi-archiviati/event/14450
 -cantinando-a-natale-viii-edizione-percorso-epomeo-pomeriggio
END:VEVENT
BEGIN:VEVENT
UID:20260422T033747CEST-4202mpEKXM@https://www.prolocopanza.it/
DTSTAMP:20260422T013747Z
DESCRIPTION:Le cantine del percorso Epomeo:\n1. CANTINA SCARDECCHIAVia Succ
 hivo - Serrara FontanaTel. 081 909062Cantina storica del paese\, passata d
 i generazione in generazione per tre secoli tra le mani sapienti della fam
 iglia Iacono. Attualmente si producono vino bianco\, rosso\, spumante mist
 o e Sorriso.\n2. ANTICA FATTORIA GRECAVia Sorgeto\, 51 - ForioTel: 081 908
 102 - 081 909277www.puntachiarito.it - info@puntachiarito.itL’azienda si c
 ontraddistingue per la produzione di vini speciali locali come Ischia Bian
 co e Ischia Rosso. Presso la struttura è possibile degustare i vini\, visi
 tare il vigneto. La produzione si basa sulla più genuina tradizione contad
 ina ischitana.\n3. CANTINA PASSARIELLOForio - Via Tironi 29\,cell.: 335 63
 41297La cantina si trova in località Tironi ed è di proprietà della famigl
 ia Russo dal 1956. Costruita interamente in tufo verde nel lontano 1873\, 
 era adibita per la produzione e la vendita di vino locale. Rappresenta sic
 uramente una delle cantine più antiche di Forio ed è perfettamente funzion
 ante.\nTutti i percorsi partono dalla sede della Pro loco in piazza San Le
 onardo\, Panza alle ore 10.00Prenotazione obbligatoria esclusivamente con 
 green pass.Le escursioni comprendono: servizio navetta – guida – degustazi
 one vini e prodotti tipici della tradizione natalizia I percorsi possono s
 ubire variazioni e modifiche in base alle prenotazioni e alla disponibilit
 à delle cantine.\nLa manifestazione si svolgerà nel pieno rispetto delle n
 ormative anticovid e si potrà partecipare esclusivamente se in possesso de
 l Green Pass.\nLo svolgimento dell'escursione è subordinato al raggiungime
 nto minimo di 15 persone. https://www.prolocopanza.it/en/calendario-eventi
 -archiviati/event/14456-cantinando-a-natale-viii-edizione-percorso-biancol
 ella-pomeriggio
DTSTART:20220102T140000Z
DTEND:20220102T180000Z
LOCATION:Pro Loco Panza Ischia (Via Cavaliere Leonardo Impagliazzo\, 144\, 
 80075 Forio NA\, Italia)
SUMMARY:Cantinando a Natale - VIII Edizione - Percorso Biancolella (pomerig
 gio)
URL:https://www.prolocopanza.it/en/calendario-eventi-archiviati/event/14456
 -cantinando-a-natale-viii-edizione-percorso-biancolella-pomeriggio
END:VEVENT
END:VCALENDAR
