BEGIN:VCALENDAR
VERSION:2.0
PRODID:-//https://www.prolocopanza.it///NONSGML kigkonsult.se iCalcreator 2.10.15//
METHOD:PUBLISH
BEGIN:VEVENT
UID:20260420T093517CEST-9133A1GZie@https://www.prolocopanza.it/
DTSTAMP:20260420T073517Z
DESCRIPTION:Il primo tuffo dell'anno nelle acque termali della Baia di Sorg
 eto\nTutti con il cappellino di Babbo Natale per dare il benvenuto al nuov
 o anno!!\n https://www.prolocopanza.it/en/calendario-eventi-archiviati/eve
 nt/14886-primo-tuffo-dell-anno
DTSTART:20250101T100000Z
DTEND:20250101T120000Z
LOCATION:Baia di Sorgeto (Via Sorgeto\, 35\, 80075 Forio NA\, Italia)
SUMMARY:Primo tuffo dell'anno
URL:https://www.prolocopanza.it/en/calendario-eventi-archiviati/event/14886
 -primo-tuffo-dell-anno
END:VEVENT
BEGIN:VEVENT
UID:20260420T093517CEST-9137E31xo6@https://www.prolocopanza.it/
DTSTAMP:20260420T073517Z
DESCRIPTION:Akemada & Gospel italian Singer in concerto\, con la partecipaz
 ione di Manuela Villadirezione M° Francesco Finizio con la partecipazione 
 di Aka Prince https://www.prolocopanza.it/en/calendario-eventi-archiviati/
 event/14888-akemada-gospel-italian-singer
DTSTART:20250101T180000Z
DTEND:20250101T200000Z
LOCATION:Parrocchia San Leonardo Abate (Via Cavaliere Leonardo Impagliazzo\
 , 131\, 80075 Forio NA\, Italia)
SUMMARY:Akemada & Gospel italian Singer
URL:https://www.prolocopanza.it/en/calendario-eventi-archiviati/event/14888
 -akemada-gospel-italian-singer
END:VEVENT
END:VCALENDAR
